View In:
ArcGIS JavaScript
ArcGIS Online Map Viewer
ArcGIS Earth
Service Description: Historical/1910s_OS_Second_Edition_2500_Maps
Name: Historical/1910s_OS_Second_Edition_2500_Maps
Description:
Single Fused Map Cache: false
Extent:
XMin: 328997.93432087975
YMin: 398630.4612758271
XMax: 396309.6950574245
YMax: 479070.9644483194
Spatial Reference: 27700
(27700)
LatestVCSWkid(0)
Initial Extent:
XMin: 328997.93432087975
YMin: 398630.4612758271
XMax: 396309.6950574245
YMax: 479070.9644483194
Spatial Reference: 27700
(27700)
LatestVCSWkid(0)
Full Extent:
XMin: 328997.93432087975
YMin: 398630.4612758271
XMax: 396309.6950574245
YMax: 479070.9644483194
Spatial Reference: 27700
(27700)
LatestVCSWkid(0)
Pixel Size X: 0.15649203084782642
Pixel Size Y: 0.15649203084782648
Band Count: 1
Pixel Type: U8
RasterFunction Infos: {"rasterFunctionInfos": [{
"name": "None",
"description": "Make a Raster or Raster Dataset into a Function Raster Dataset.",
"help": ""
}]}
Mensuration Capabilities: None
Inspection Capabilities:
Has Histograms: true
Has Colormap: false
Has Multi Dimensions : false
Rendering Rule:
Min Scale: 0
Max Scale: 0
Copyright Text:
Service Data Type: esriImageServiceDataTypeGeneric
Min Values: 0
Max Values: 255
Mean Values: 247.51114658671688
Standard Deviation Values: 24.954245254480174
Object ID Field: OBJECTID
Fields:
-
OBJECTID
(
type: esriFieldTypeOID, alias: OBJECTID
)
-
Shape
(
type: esriFieldTypeGeometry, alias: Shape
)
-
Name
(
type: esriFieldTypeString, alias: Name, length: 200
)
-
MinPS
(
type: esriFieldTypeDouble, alias: MinPS
)
-
MaxPS
(
type: esriFieldTypeDouble, alias: MaxPS
)
-
LowPS
(
type: esriFieldTypeDouble, alias: LowPS
)
-
HighPS
(
type: esriFieldTypeDouble, alias: HighPS
)
-
Category
(
type: esriFieldTypeInteger, alias: Category
, Coded Values:
[0: Unknown]
, [1: Primary]
, [2: Overview]
, ...6 more...
)
-
Tag
(
type: esriFieldTypeString, alias: Tag, length: 100
)
-
GroupName
(
type: esriFieldTypeString, alias: GroupName, length: 100
)
-
ProductName
(
type: esriFieldTypeString, alias: ProductName, length: 100
)
-
CenterX
(
type: esriFieldTypeDouble, alias: CenterX
)
-
CenterY
(
type: esriFieldTypeDouble, alias: CenterY
)
-
ZOrder
(
type: esriFieldTypeInteger, alias: ZOrder
)
-
Shape_Length
(
type: esriFieldTypeDouble, alias: Shape_Length
)
-
Shape_Area
(
type: esriFieldTypeDouble, alias: Shape_Area
)
Default Mosaic Method: Northwest
Allowed Mosaic Methods: NorthWest,Center,LockRaster,ByAttribute,Nadir,Viewpoint,Seamline,None
SortField:
SortValue: null
Mosaic Operator: First
Default Compression Quality: 80
Default Resampling Method: Bilinear
Max Record Count: 1000
Max Image Height: 4100
Max Image Width: 15000
Max Download Image Count: 20
Max Mosaic Image Count: 20
Allow Raster Function: true
Allow Copy: true
Allow Analysis: true
Allow Compute TiePoints: false
Supports Statistics: true
Supports Advanced Queries: true
Use StandardizedQueries: true
Raster Type Infos:
Name: Raster Dataset
Description: Supports all ArcGIS Raster Datasets
Help:
Has Raster Attribute Table: false
Edit Fields Info: null
Ownership Based AccessControl For Rasters: null
Child Resources:
Info
Histograms
Statistics
Key Properties
Legend
Raster Function Infos
Supported Operations:
Export Image
Query
Identify
Compute Histograms
Compute Statistics Histograms
Get Samples
Compute Class Statistics
Query GPS Info
Find Images
Image to Map
Map to Image
Measure from Image
Image to Map Multiray
Query Boundary
Compute Pixel Location
Compute Angles
Validate
Project